Workbook

Sheet Short
A1: 41824 | C1: Distance in a RECTANGLE
A3: b = | B3: 5 | C3: km | D3: Base | F3: Warehouse X = | G3: 2.2 | H3: km | I3: Classes = | J3: 12 | K3: (n)
A4: h = | B4: 2 | C4: km | D4: Height | F4: Y = | G4: 0.8 | H4: km
A6: Min | B6: =MIN(B11:B2010) -> 0.0037005871 | C6: =MIN(C11:C2010) -> 0.002187473 | D6: =MIN(D11:D10010) -> 0.17978722 | F6: See:
A7: Max | B7: =MAX(B11:B2010) -> 4.9949186 | C7: =MAX(C11:C2010) -> 1.9995971 | D7: =MAX(D11:D10010) -> 2.9592449 | F7: http://web.tecnico.ulisboa.pt/~mcasquilho/compute/or/Fx-distInRectang.php
A8: Average | B8: =AVERAGE(B11:B2010) -> 2.5250639 | C8: =AVERAGE(C11:C2010) -> 0.99919648 | D8: =AVERAGE(D11:D2010) -> 1.4658872 | N8: S fRx | O8: S fRx2
A9: Stdev | B9: =STDEV(B11:B2010) -> 1.456861 | C9: =STDEV(C11:C2010) -> 0.58016933 | D9: =STDEV(D11:D2010) -> 0.67197155 | I9: x | J9: Sum: | K9: =SUM(K11:K22) -> 500 | L9: =SUM(L11:L22) -> 1 | M9: f | N9: =SUM(N11:N22) -> 1.4601907 | O9: =SUM(O11:O22) -> 2.5846938
A10: i | B10: x | C10: y | D10: d | H10: ClassL | I10: ClassC, x | J10: ClassR | K10: FreqAbs | L10: FreqRel, fR | M10: FreqRD | N10: f R x | O10: f R x2
A11: 1 | B11: =$B$3*randomS!A1 -> 1.2756189 | C11: =$B$4*randomS!B1 -> 1.0292521 | D11: =SQRT(($B11-$G$3)^2+($C11-$G$4)^2) -> 0.95238485 | E11: R = | F11: =$D$7-$D$6 -> 2.7794577 | H11: =$D$6+($A11-1)*$F$12 -> 0.17978722 | I11: =$D$6+($A11-1/2)*$F$12 -> 0.29559796 | J11: =$D$6+$A11*$F$12 -> 0.4114087 | K11: {=FREQUENCY(D11:D510,J11:J22)} -> 23 | L11: =$K11/$K$9 -> 0.046 | M11: =$K11/($K$9*$F$12) -> 0.19859989 | N11: =$L11*$I11 -> 0.013597506 | O11: =$L11*$I11^2 -> 0.004019395
A12: =$A11+1 -> 2 | B12: =$B$3*randomS!A2 -> 1.8148042 | C12: =$B$4*randomS!B2 -> 0.81537999 | D12: =SQRT(($B12-$G$3)^2+($C12-$G$4)^2) -> 0.38550274 | E12: width = | F12: =$F$11/$J$3 -> 0.23162148 | H12: =$D$6+($A12-1)*$F$12 -> 0.4114087 | I12: =$D$6+($A12-1/2)*$F$12 -> 0.52721943 | J12: =$D$6+$A12*$F$12 -> 0.64303017 | K12: 38 | L12: =$K12/$K$9 -> 0.076 | M12: =$K12/($K$9*$F$12) -> 0.32812156 | N12: =$L12*$I12 -> 0.040068677 | O12: =$L12*$I12^2 -> 0.021124985
A13: =$A12+1 -> 3 | B13: =$B$3*randomS!A3 -> 1.1310945 | C13: =$B$4*randomS!B3 -> 1.7082321 | D13: =SQRT(($B13-$G$3)^2+($C13-$G$4)^2) -> 1.4026562 | H13: =$D$6+($A13-1)*$F$12 -> 0.64303017 | I13: =$D$6+($A13-1/2)*$F$12 -> 0.75884091 | J13: =$D$6+$A13*$F$12 -> 0.87465165 | K13: 49 | L13: =$K13/$K$9 -> 0.098 | M13: =$K13/($K$9*$F$12) -> 0.42310412 | N13: =$L13*$I13 -> 0.074366409 | O13: =$L13*$I13^2 -> 0.056432274
A14: =$A13+1 -> 4 | B14: =$B$3*randomS!A4 -> 1.4913954 | C14: =$B$4*randomS!B4 -> 1.2147486 | D14: =SQRT(($B14-$G$3)^2+($C14-$G$4)^2) -> 0.82105837 | H14: =$D$6+($A14-1)*$F$12 -> 0.87465165 | I14: =$D$6+($A14-1/2)*$F$12 -> 0.99046239 | J14: =$D$6+$A14*$F$12 -> 1.1062731 | K14: 51 | L14: =$K14/$K$9 -> 0.102 | M14: =$K14/($K$9*$F$12) -> 0.44037367 | N14: =$L14*$I14 -> 0.10102716 | O14: =$L14*$I14^2 -> 0.10006361
A15: =$A14+1 -> 5 | B15: =$B$3*randomS!A5 -> 1.0180765 | C15: =$B$4*randomS!B5 -> 1.0734777 | D15: =SQRT(($B15-$G$3)^2+($C15-$G$4)^2) -> 1.2131501 | H15: =$D$6+($A15-1)*$F$12 -> 1.1062731 | I15: =$D$6+($A15-1/2)*$F$12 -> 1.2220839 | J15: =$D$6+$A15*$F$12 -> 1.3378946 | K15: 75 | L15: =$K15/$K$9 -> 0.15 | M15: =$K15/($K$9*$F$12) -> 0.64760834 | N15: =$L15*$I15 -> 0.18331258 | O15: =$L15*$I15^2 -> 0.22402335
A16: =$A15+1 -> 6 | B16: =$B$3*randomS!A6 -> 2.8580564 | C16: =$B$4*randomS!B6 -> 0.70061768 | D16: =SQRT(($B16-$G$3)^2+($C16-$G$4)^2) -> 0.66551865 | H16: =$D$6+($A16-1)*$F$12 -> 1.3378946 | I16: =$D$6+($A16-1/2)*$F$12 -> 1.4537053 | J16: =$D$6+$A16*$F$12 -> 1.5695161 | K16: 60 | L16: =$K16/$K$9 -> 0.12 | M16: =$K16/($K$9*$F$12) -> 0.51808667 | N16: =$L16*$I16 -> 0.17444464 | O16: =$L16*$I16^2 -> 0.25359111
A17: =$A16+1 -> 7 | B17: =$B$3*randomS!A7 -> 2.6159372 | C17: =$B$4*randomS!B7 -> 0.63249145 | D17: =SQRT(($B17-$G$3)^2+($C17-$G$4)^2) -> 0.4484003 | H17: =$D$6+($A17-1)*$F$12 -> 1.5695161 | I17: =$D$6+($A17-1/2)*$F$12 -> 1.6853268 | J17: =$D$6+$A17*$F$12 -> 1.8011376 | K17: 47 | L17: =$K17/$K$9 -> 0.094 | M17: =$K17/($K$9*$F$12) -> 0.40583456 | N17: =$L17*$I17 -> 0.15842072 | O17: =$L17*$I17^2 -> 0.26699069
A18: =$A17+1 -> 8 | B18: =$B$3*randomS!A8 -> 1.4283321 | C18: =$B$4*randomS!B8 -> 0.3368409 | D18: =SQRT(($B18-$G$3)^2+($C18-$G$4)^2) -> 0.8999932 | H18: =$D$6+($A18-1)*$F$12 -> 1.8011376 | I18: =$D$6+($A18-1/2)*$F$12 -> 1.9169483 | J18: =$D$6+$A18*$F$12 -> 2.032759 | K18: 46 | L18: =$K18/$K$9 -> 0.092 | M18: =$K18/($K$9*$F$12) -> 0.39719978 | N18: =$L18*$I18 -> 0.17635924 | O18: =$L18*$I18^2 -> 0.33807155
A19: =$A18+1 -> 9 | B19: =$B$3*randomS!A9 -> 1.0116826 | C19: =$B$4*randomS!B9 -> 1.0603546 | D19: =SQRT(($B19-$G$3)^2+($C19-$G$4)^2) -> 1.2165043 | H19: =$D$6+($A19-1)*$F$12 -> 2.032759 | I19: =$D$6+($A19-1/2)*$F$12 -> 2.1485698 | J19: =$D$6+$A19*$F$12 -> 2.2643805 | K19: 40 | L19: =$K19/$K$9 -> 0.08 | M19: =$K19/($K$9*$F$12) -> 0.34539112 | N19: =$L19*$I19 -> 0.17188558 | O19: =$L19*$I19^2 -> 0.36930816
A20: =$A19+1 -> 10 | B20: =$B$3*randomS!A10 -> 0.78424065 | C20: =$B$4*randomS!B10 -> 1.5951473 | D20: =SQRT(($B20-$G$3)^2+($C20-$G$4)^2) -> 1.6237715 | H20: =$D$6+($A20-1)*$F$12 -> 2.2643805 | I20: =$D$6+($A20-1/2)*$F$12 -> 2.3801912 | J20: =$D$6+$A20*$F$12 -> 2.496002 | K20: 24 | L20: =$K20/$K$9 -> 0.048 | M20: =$K20/($K$9*$F$12) -> 0.20723467 | N20: =$L20*$I20 -> 0.11424918 | O20: =$L20*$I20^2 -> 0.2719349
A21: =$A20+1 -> 11 | B21: =$B$3*randomS!A11 -> 4.230926 | C21: =$B$4*randomS!B11 -> 0.71936372 | D21: =SQRT(($B21-$G$3)^2+($C21-$G$4)^2) -> 2.0325262 | H21: =$D$6+($A21-1)*$F$12 -> 2.496002 | I21: =$D$6+($A21-1/2)*$F$12 -> 2.6118127 | J21: =$D$6+$A21*$F$12 -> 2.7276235 | K21: 32 | L21: =$K21/$K$9 -> 0.064 | M21: =$K21/($K$9*$F$12) -> 0.27631289 | N21: =$L21*$I21 -> 0.16715601 | O21: =$L21*$I21^2 -> 0.4365802
A22: =$A21+1 -> 12 | B22: =$B$3*randomS!A12 -> 3.4968202 | C22: =$B$4*randomS!B12 -> 0.023023011 | D22: =SQRT(($B22-$G$3)^2+($C22-$G$4)^2) -> 1.5117658 | H22: =$D$6+($A22-1)*$F$12 -> 2.7276235 | I22: =$D$6+($A22-1/2)*$F$12 -> 2.8434342 | J22: =$D$6+$A22*$F$12 -> 2.9592449 | K22: 15 | L22: =$K22/$K$9 -> 0.03 | M22: =$K22/($K$9*$F$12) -> 0.12952167 | N22: =$L22*$I22 -> 0.085303026 | O22: =$L22*$I22^2 -> 0.24255354
A23: =$A22+1 -> 13 | B23: =$B$3*randomS!A13 -> 4.0358505 | C23: =$B$4*randomS!B13 -> 0.135254 | D23: =SQRT(($B23-$G$3)^2+($C23-$G$4)^2) -> 1.9524944 | J23: Beware ! | K23: 0 | N23: Average | O23: Variance
A24: =$A23+1 -> 14 | B24: =$B$3*randomS!A14 -> 1.5966922 | C24: =$B$4*randomS!B14 -> 0.20331152 | D24: =SQRT(($B24-$G$3)^2+($C24-$G$4)^2) -> 0.84853841 | I24: See: | M24: Numerical: | N24: =$N$9 -> 1.4601907 | O24: =$O$9-$N$24^2 -> 0.45253676
A25: =$A24+1 -> 15 | B25: =$B$3*randomS!A15 -> 2.1037535 | C25: =$B$4*randomS!B15 -> 0.15601047 | D25: =SQRT(($B25-$G$3)^2+($C25-$G$4)^2) -> 0.651142 | I25: http://web.tecnico.ulisboa.pt/mcasquilho/acad/cq/ | N25: s = | O25: =SQRT($O$24) -> 0.67270852
A26: =$A25+1 -> 16 | B26: =$B$3*randomS!A16 -> 0.85703278 | C26: =$B$4*randomS!B16 -> 0.57840994 | D26: =SQRT(($B26-$G$3)^2+($C26-$G$4)^2) -> 1.3611257
A27: =$A26+1 -> 17 | B27: =$B$3*randomS!A17 -> 3.6091313 | C27: =$B$4*randomS!B17 -> 0.43196211 | D27: =SQRT(($B27-$G$3)^2+($C27-$G$4)^2) -> 1.4564007
A28: =$A27+1 -> 18 | B28: =$B$3*randomS!A18 -> 0.6857073 | C28: =$B$4*randomS!B18 -> 1.5061988 | D28: =SQRT(($B28-$G$3)^2+($C28-$G$4)^2) -> 1.6708678
A29: =$A28+1 -> 19 | B29: =$B$3*randomS!A19 -> 1.4050862 | C29: =$B$4*randomS!B19 -> 1.490699 | D29: =SQRT(($B29-$G$3)^2+($C29-$G$4)^2) -> 1.0530684
A30: =$A29+1 -> 20 | B30: =$B$3*randomS!A20 -> 1.5589402 | C30: =$B$4*randomS!B20 -> 1.1064152 | D30: =SQRT(($B30-$G$3)^2+($C30-$G$4)^2) -> 0.71052653
A31: =$A30+1 -> 21 | B31: =$B$3*randomS!A21 -> 3.9843864 | C31: =$B$4*randomS!B21 -> 1.3409633 | D31: =SQRT(($B31-$G$3)^2+($C31-$G$4)^2) -> 1.8645847
A32: =$A31+1 -> 22 | B32: =$B$3*randomS!A22 -> 0.031401023 | C32: =$B$4*randomS!B22 -> 1.3024371 | D32: =SQRT(($B32-$G$3)^2+($C32-$G$4)^2) -> 2.2260424
A33: =$A32+1 -> 23 | B33: =$B$3*randomS!A23 -> 3.0907652 | C33: =$B$4*randomS!B23 -> 0.4152685 | D33: =SQRT(($B33-$G$3)^2+($C33-$G$4)^2) -> 0.97029945
A34: =$A33+1 -> 24 | B34: =$B$3*randomS!A24 -> 0.65557994 | C34: =$B$4*randomS!B24 -> 0.79190947 | D34: =SQRT(($B34-$G$3)^2+($C34-$G$4)^2) -> 1.5444413
A35: =$A34+1 -> 25 | B35: =$B$3*randomS!A25 -> 1.3979345 | C35: =$B$4*randomS!B25 -> 0.52972576 | D35: =SQRT(($B35-$G$3)^2+($C35-$G$4)^2) -> 0.84637893
A36: =$A35+1 -> 26 | B36: =$B$3*randomS!A26 -> 1.5588325 | C36: =$B$4*randomS!B26 -> 0.36780001 | D36: =SQRT(($B36-$G$3)^2+($C36-$G$4)^2) -> 0.77323518
A37: =$A36+1 -> 27 | B37: =$B$3*randomS!A27 -> 3.0450438 | C37: =$B$4*randomS!B27 -> 1.2285773 | D37: =SQRT(($B37-$G$3)^2+($C37-$G$4)^2) -> 0.94751119
... A510: =$A509+1 -> 500 | B510: =$B$3*randomS!A500 -> 3.2182473 | C510: =$B$4*randomS!B500 -> 1.8299496 | D510: =SQRT(($B510-$G$3)^2+($C510-$G$4)^2) -> 1.4483175

Sheet randomS
A1: 0.25512379 | B1: 0.51462607 | D1: N = | E1: =COUNTIF(A1:A10000,">="&0) -> 500
A2: 0.36296084 | B2: 0.40768999
A3: 0.22621891 | B3: 0.85411605 | D3: Golbal: | H3: Theoretical
A4: 0.29827909 | B4: 0.60737431 | D4: average = | E4: =AVERAGE(A1:B10000) -> 0.50230551 | G4: 1 / 2 = | H4: =1/2 -> 0.5
A5: 0.20361531 | B5: 0.53673887 | D5: stdev = | E5: =STDEV(A1:B10000) -> 0.29059622 | G5: 1 / Ö12 = | H5: =1/SQRT(12) -> 0.28867513
A6: 0.57161128 | B6: 0.35030884
A7: 0.52318743 | B7: 0.31624572
A8: 0.28566641 | B8: 0.16842045
A9: 0.20233652 | B9: 0.53017732
A10: 0.15684813 | B10: 0.79757364
A11: 0.8461852 | B11: 0.35968186
A12: 0.69936405 | B12: 0.011511506
A13: 0.80717009 | B13: 0.067627
A14: 0.31933844 | B14: 0.10165576
A15: 0.4207507 | B15: 0.078005235
A16: 0.17140656 | B16: 0.28920497
A17: 0.72182626 | B17: 0.21598105
... A500: 0.64364947 | B500: 0.91497478

Sheet Long
A1: 41824 | C1: Distance in a RECTANGLE
A3: b = | B3: 5 | C3: km | D3: Base | F3: Warehouse X = | G3: 2.2 | H3: km | I3: Classes = | J3: 12 | K3: (n)
A4: h = | B4: 2 | C4: km | D4: Height | F4: Y = | G4: 0.8 | H4: km
A6: Min | B6: =MIN(B11:B2010) -> 0.001260643 | C6: =MIN(C11:C2010) -> 0.00015902394 | D6: =MIN(D11:D10010) -> 0.067930141 | F6: See:
A7: Max | B7: =MAX(B11:B2010) -> 4.9988234 | C7: =MAX(C11:C2010) -> 1.9995971 | D7: =MAX(D11:D10010) -> 2.9625439 | F7: http://web.tecnico.ulisboa.pt/~mcasquilho/compute/or/Fx-distInRectang.php
A8: Average | B8: =AVERAGE(B11:B2010) -> 2.5225416 | C8: =AVERAGE(C11:C2010) -> 0.99465971 | D8: =AVERAGE(D11:D2010) -> 1.4478351 | N8: S fRx | O8: S fRx2
A9: Stdev | B9: =STDEV(B11:B2010) -> 1.4415589 | C9: =STDEV(C11:C2010) -> 0.57213823 | D9: =STDEV(D11:D2010) -> 0.67093636 | J9: Sum: | K9: =SUM(K11:K22) -> 2000 | L9: =SUM(L11:L22) -> 1 | M9: f | N9: =SUM(N11:N22) -> 1.4481785 | O9: =SUM(O11:O22) -> 2.5514627
A10: i | B10: x | C10: y | D10: d | H10: ClassL | I10: ClassC, x | J10: ClassR | K10: FreqAbs | L10: FreqRel, fR | M10: FreqRD | N10: f R x | O10: f R x2
A11: 1 | B11: =$B$3*randomL!A1 -> 1.2756189 | C11: =$B$4*randomL!B1 -> 1.0292521 | D11: =SQRT(($B11-$G$3)^2+($C11-$G$4)^2) -> 0.95238485 | E11: R = | F11: =$D$7-$D$6 -> 2.8946137 | H11: =$D$6+($A11-1)*$F$12 -> 0.067930141 | I11: =$D$6+($A11-1/2)*$F$12 -> 0.18853905 | J11: =$D$6+$A11*$F$12 -> 0.30914795 | K11: {=FREQUENCY(D11:D2010,J11:J22)} -> 44 | L11: =$K11/$K$9 -> 0.022 | M11: =$K11/($K$9*$F$12) -> 0.091203879 | N11: =$L11*$I11 -> 0.004147859 | O11: =$L11*$I11^2 -> 0.00078203338
A12: =$A11+1 -> 2 | B12: =$B$3*randomL!A2 -> 1.8148042 | C12: =$B$4*randomL!B2 -> 0.81537999 | D12: =SQRT(($B12-$G$3)^2+($C12-$G$4)^2) -> 0.38550274 | E12: width = | F12: =$F$11/$J$3 -> 0.24121781 | H12: =$D$6+($A12-1)*$F$12 -> 0.30914795 | I12: =$D$6+($A12-1/2)*$F$12 -> 0.42975686 | J12: =$D$6+$A12*$F$12 -> 0.55036576 | K12: 145 | L12: =$K12/$K$9 -> 0.0725 | M12: =$K12/($K$9*$F$12) -> 0.30055824 | N12: =$L12*$I12 -> 0.031157372 | O12: =$L12*$I12^2 -> 0.013390094
A13: =$A12+1 -> 3 | B13: =$B$3*randomL!A3 -> 1.1310945 | C13: =$B$4*randomL!B3 -> 1.7082321 | D13: =SQRT(($B13-$G$3)^2+($C13-$G$4)^2) -> 1.4026562 | H13: =$D$6+($A13-1)*$F$12 -> 0.55036576 | I13: =$D$6+($A13-1/2)*$F$12 -> 0.67097467 | J13: =$D$6+$A13*$F$12 -> 0.79158357 | K13: 191 | L13: =$K13/$K$9 -> 0.0955 | M13: =$K13/($K$9*$F$12) -> 0.39590775 | N13: =$L13*$I13 -> 0.064078081 | O13: =$L13*$I13^2 -> 0.042994769
A14: =$A13+1 -> 4 | B14: =$B$3*randomL!A4 -> 1.4913954 | C14: =$B$4*randomL!B4 -> 1.2147486 | D14: =SQRT(($B14-$G$3)^2+($C14-$G$4)^2) -> 0.82105837 | H14: =$D$6+($A14-1)*$F$12 -> 0.79158357 | I14: =$D$6+($A14-1/2)*$F$12 -> 0.91219248 | J14: =$D$6+$A14*$F$12 -> 1.0328014 | K14: 237 | L14: =$K14/$K$9 -> 0.1185 | M14: =$K14/($K$9*$F$12) -> 0.49125726 | N14: =$L14*$I14 -> 0.10809481 | O14: =$L14*$I14^2 -> 0.098603272
A15: =$A14+1 -> 5 | B15: =$B$3*randomL!A5 -> 1.0180765 | C15: =$B$4*randomL!B5 -> 1.0734777 | D15: =SQRT(($B15-$G$3)^2+($C15-$G$4)^2) -> 1.2131501 | H15: =$D$6+($A15-1)*$F$12 -> 1.0328014 | I15: =$D$6+($A15-1/2)*$F$12 -> 1.1534103 | J15: =$D$6+$A15*$F$12 -> 1.2740192 | K15: 249 | L15: =$K15/$K$9 -> 0.1245 | M15: =$K15/($K$9*$F$12) -> 0.51613104 | N15: =$L15*$I15 -> 0.14359958 | O15: =$L15*$I15^2 -> 0.16562923
A16: =$A15+1 -> 6 | B16: =$B$3*randomL!A6 -> 2.8580564 | C16: =$B$4*randomL!B6 -> 0.70061768 | D16: =SQRT(($B16-$G$3)^2+($C16-$G$4)^2) -> 0.66551865 | H16: =$D$6+($A16-1)*$F$12 -> 1.2740192 | I16: =$D$6+($A16-1/2)*$F$12 -> 1.3946281 | J16: =$D$6+$A16*$F$12 -> 1.515237 | K16: 253 | L16: =$K16/$K$9 -> 0.1265 | M16: =$K16/($K$9*$F$12) -> 0.5244223 | N16: =$L16*$I16 -> 0.17642045 | O16: =$L16*$I16^2 -> 0.24604092
A17: =$A16+1 -> 7 | B17: =$B$3*randomL!A7 -> 2.6159372 | C17: =$B$4*randomL!B7 -> 0.63249145 | D17: =SQRT(($B17-$G$3)^2+($C17-$G$4)^2) -> 0.4484003 | H17: =$D$6+($A17-1)*$F$12 -> 1.515237 | I17: =$D$6+($A17-1/2)*$F$12 -> 1.6358459 | J17: =$D$6+$A17*$F$12 -> 1.7564548 | K17: 196 | L17: =$K17/$K$9 -> 0.098 | M17: =$K17/($K$9*$F$12) -> 0.40627182 | N17: =$L17*$I17 -> 0.1603129 | O17: =$L17*$I17^2 -> 0.2622472
A18: =$A17+1 -> 8 | B18: =$B$3*randomL!A8 -> 1.4283321 | C18: =$B$4*randomL!B8 -> 0.3368409 | D18: =SQRT(($B18-$G$3)^2+($C18-$G$4)^2) -> 0.8999932 | H18: =$D$6+($A18-1)*$F$12 -> 1.7564548 | I18: =$D$6+($A18-1/2)*$F$12 -> 1.8770637 | J18: =$D$6+$A18*$F$12 -> 1.9976726 | K18: 216 | L18: =$K18/$K$9 -> 0.108 | M18: =$K18/($K$9*$F$12) -> 0.44772813 | N18: =$L18*$I18 -> 0.20272288 | O18: =$L18*$I18^2 -> 0.38052377
A19: =$A18+1 -> 9 | B19: =$B$3*randomL!A9 -> 1.0116826 | C19: =$B$4*randomL!B9 -> 1.0603546 | D19: =SQRT(($B19-$G$3)^2+($C19-$G$4)^2) -> 1.2165043 | H19: =$D$6+($A19-1)*$F$12 -> 1.9976726 | I19: =$D$6+($A19-1/2)*$F$12 -> 2.1182815 | J19: =$D$6+$A19*$F$12 -> 2.2388904 | K19: 187 | L19: =$K19/$K$9 -> 0.0935 | M19: =$K19/($K$9*$F$12) -> 0.38761649 | N19: =$L19*$I19 -> 0.19805932 | O19: =$L19*$I19^2 -> 0.41954541
A20: =$A19+1 -> 10 | B20: =$B$3*randomL!A10 -> 0.78424065 | C20: =$B$4*randomL!B10 -> 1.5951473 | D20: =SQRT(($B20-$G$3)^2+($C20-$G$4)^2) -> 1.6237715 | H20: =$D$6+($A20-1)*$F$12 -> 2.2388904 | I20: =$D$6+($A20-1/2)*$F$12 -> 2.3594993 | J20: =$D$6+$A20*$F$12 -> 2.4801082 | K20: 116 | L20: =$K20/$K$9 -> 0.058 | M20: =$K20/($K$9*$F$12) -> 0.24044659 | N20: =$L20*$I20 -> 0.13685096 | O20: =$L20*$I20^2 -> 0.32289975
A21: =$A20+1 -> 11 | B21: =$B$3*randomL!A11 -> 4.230926 | C21: =$B$4*randomL!B11 -> 0.71936372 | D21: =SQRT(($B21-$G$3)^2+($C21-$G$4)^2) -> 2.0325262 | H21: =$D$6+($A21-1)*$F$12 -> 2.4801082 | I21: =$D$6+($A21-1/2)*$F$12 -> 2.6007172 | J21: =$D$6+$A21*$F$12 -> 2.7213261 | K21: 109 | L21: =$K21/$K$9 -> 0.0545 | M21: =$K21/($K$9*$F$12) -> 0.22593688 | N21: =$L21*$I21 -> 0.14173908 | O21: =$L21*$I21^2 -> 0.36862327
A22: =$A21+1 -> 12 | B22: =$B$3*randomL!A12 -> 3.4968202 | C22: =$B$4*randomL!B12 -> 0.023023011 | D22: =SQRT(($B22-$G$3)^2+($C22-$G$4)^2) -> 1.5117658 | H22: =$D$6+($A22-1)*$F$12 -> 2.7213261 | I22: =$D$6+($A22-1/2)*$F$12 -> 2.841935 | J22: =$D$6+$A22*$F$12 -> 2.9625439 | K22: 57 | L22: =$K22/$K$9 -> 0.0285 | M22: =$K22/($K$9*$F$12) -> 0.11815048 | N22: =$L22*$I22 -> 0.080995146 | O22: =$L22*$I22^2 -> 0.23018294
A23: =$A22+1 -> 13 | B23: =$B$3*randomL!A13 -> 4.0358505 | C23: =$B$4*randomL!B13 -> 0.135254 | D23: =SQRT(($B23-$G$3)^2+($C23-$G$4)^2) -> 1.9524944 | K23: 0 | N23: Average | O23: Variance
A24: =$A23+1 -> 14 | B24: =$B$3*randomL!A14 -> 1.5966922 | C24: =$B$4*randomL!B14 -> 0.20331152 | D24: =SQRT(($B24-$G$3)^2+($C24-$G$4)^2) -> 0.84853841 | M24: Numerical: | N24: =$N$9 -> 1.4481785 | O24: =$O$9-$N$24^2 -> 0.45424183
A25: =$A24+1 -> 15 | B25: =$B$3*randomL!A15 -> 2.1037535 | C25: =$B$4*randomL!B15 -> 0.15601047 | D25: =SQRT(($B25-$G$3)^2+($C25-$G$4)^2) -> 0.651142 | N25: s = | O25: =SQRT($O$24) -> 0.67397465
A26: =$A25+1 -> 16 | B26: =$B$3*randomL!A16 -> 0.85703278 | C26: =$B$4*randomL!B16 -> 0.57840994 | D26: =SQRT(($B26-$G$3)^2+($C26-$G$4)^2) -> 1.3611257
A27: =$A26+1 -> 17 | B27: =$B$3*randomL!A17 -> 3.6091313 | C27: =$B$4*randomL!B17 -> 0.43196211 | D27: =SQRT(($B27-$G$3)^2+($C27-$G$4)^2) -> 1.4564007
A28: =$A27+1 -> 18 | B28: =$B$3*randomL!A18 -> 0.6857073 | C28: =$B$4*randomL!B18 -> 1.5061988 | D28: =SQRT(($B28-$G$3)^2+($C28-$G$4)^2) -> 1.6708678
A29: =$A28+1 -> 19 | B29: =$B$3*randomL!A19 -> 1.4050862 | C29: =$B$4*randomL!B19 -> 1.490699 | D29: =SQRT(($B29-$G$3)^2+($C29-$G$4)^2) -> 1.0530684
A30: =$A29+1 -> 20 | B30: =$B$3*randomL!A20 -> 1.5589402 | C30: =$B$4*randomL!B20 -> 1.1064152 | D30: =SQRT(($B30-$G$3)^2+($C30-$G$4)^2) -> 0.71052653
A31: =$A30+1 -> 21 | B31: =$B$3*randomL!A21 -> 3.9843864 | C31: =$B$4*randomL!B21 -> 1.3409633 | D31: =SQRT(($B31-$G$3)^2+($C31-$G$4)^2) -> 1.8645847
A32: =$A31+1 -> 22 | B32: =$B$3*randomL!A22 -> 0.031401023 | C32: =$B$4*randomL!B22 -> 1.3024371 | D32: =SQRT(($B32-$G$3)^2+($C32-$G$4)^2) -> 2.2260424
A33: =$A32+1 -> 23 | B33: =$B$3*randomL!A23 -> 3.0907652 | C33: =$B$4*randomL!B23 -> 0.4152685 | D33: =SQRT(($B33-$G$3)^2+($C33-$G$4)^2) -> 0.97029945
A34: =$A33+1 -> 24 | B34: =$B$3*randomL!A24 -> 0.65557994 | C34: =$B$4*randomL!B24 -> 0.79190947 | D34: =SQRT(($B34-$G$3)^2+($C34-$G$4)^2) -> 1.5444413
A35: =$A34+1 -> 25 | B35: =$B$3*randomL!A25 -> 1.3979345 | C35: =$B$4*randomL!B25 -> 0.52972576 | D35: =SQRT(($B35-$G$3)^2+($C35-$G$4)^2) -> 0.84637893
A36: =$A35+1 -> 26 | B36: =$B$3*randomL!A26 -> 1.5588325 | C36: =$B$4*randomL!B26 -> 0.36780001 | D36: =SQRT(($B36-$G$3)^2+($C36-$G$4)^2) -> 0.77323518
A37: =$A36+1 -> 27 | B37: =$B$3*randomL!A27 -> 3.0450438 | C37: =$B$4*randomL!B27 -> 1.2285773 | D37: =SQRT(($B37-$G$3)^2+($C37-$G$4)^2) -> 0.94751119
... A2010: =$A2009+1 -> 2000 | B2010: =$B$3*randomL!A2000 -> 3.1132778 | C2010: =$B$4*randomL!B2000 -> 0.65288169 | D2010: =SQRT(($B2010-$G$3)^2+($C2010-$G$4)^2) -> 0.92505144

Sheet randomL
A1: 0.25512379 | B1: 0.51462607 | D1: N = | E1: =COUNTIF(A1:A10000,">="&0) -> 2000
A2: 0.36296084 | B2: 0.40768999
A3: 0.22621891 | B3: 0.85411605 | D3: Golbal: | H3: Theoretical
A4: 0.29827909 | B4: 0.60737431 | D4: average = | E4: =AVERAGE(A1:B10000) -> 0.50091909 | G4: 1 / 2 = | H4: =1/2 -> 0.5
A5: 0.20361531 | B5: 0.53673887 | D5: stdev = | E5: =STDEV(A1:B10000) -> 0.28717916 | G5: 1 / Ö12 = | H5: =1/SQRT(12) -> 0.28867513
A6: 0.57161128 | B6: 0.35030884
A7: 0.52318743 | B7: 0.31624572
A8: 0.28566641 | B8: 0.16842045
A9: 0.20233652 | B9: 0.53017732
A10: 0.15684813 | B10: 0.79757364
A11: 0.8461852 | B11: 0.35968186
A12: 0.69936405 | B12: 0.011511506
A13: 0.80717009 | B13: 0.067627
A14: 0.31933844 | B14: 0.10165576
A15: 0.4207507 | B15: 0.078005235
A16: 0.17140656 | B16: 0.28920497
A17: 0.72182626 | B17: 0.21598105
... A2000: 0.62265556 | B2000: 0.32644085

Sheet trueF
